BEGIN:VCALENDAR
VERSION:2.0
PRODID:icalendar-ruby
CALSCALE:GREGORIAN
METHOD:PUBLISH
BEGIN:VEVENT
DTSTAMP:20260420T055341Z
UID:35-478217@ctkatascocita.org
DTSTART;VALUE=DATE:20260503
DTEND;VALUE=DATE:20260503
CLASS:PUBLIC
CREATED:20260419T231434
DESCRIPTION:
LAST-MODIFIED:20260419T231434
LOCATION:19330 Pinehurst Trail Dr Humble\, TX 77346
SUMMARY:Sunday Worship
URL;VALUE=URI:https://ctkatascocita.org/events/sunday-worship--35/2026-05-0
 3
ATTACH;FILENAME=Summer-Worship-event-card-3.png;FMTTYPE=image/png:https://d
 q5pwpg1q8ru0.cloudfront.net/2026/04/18/18/16/32/92e729b7-d688-4752-89cb-83
 0d94b62c08/Summer-Worship-event-card-3.png
END:VEVENT
END:VCALENDAR
